BEGIN:VCALENDAR
VERSION:2.0
PRODID:-//Heritage Frederick  – The Historical Society of Frederick County - ECPv6.15.20//NONSGML v1.0//EN
CALSCALE:GREGORIAN
METHOD:PUBLISH
X-WR-CALNAME:Heritage Frederick  – The Historical Society of Frederick County
X-ORIGINAL-URL:https://frederickhistory.org
X-WR-CALDESC:Events for Heritage Frederick  – The Historical Society of Frederick County
REFRESH-INTERVAL;VALUE=DURATION:PT1H
X-Robots-Tag:noindex
X-PUBLISHED-TTL:PT1H
BEGIN:VTIMEZONE
TZID:America/New_York
BEGIN:DAYLIGHT
TZOFFSETFROM:-0500
TZOFFSETTO:-0400
TZNAME:EDT
DTSTART:20250309T070000
END:DAYLIGHT
BEGIN:STANDARD
TZOFFSETFROM:-0400
TZOFFSETTO:-0500
TZNAME:EST
DTSTART:20251102T060000
END:STANDARD
BEGIN:DAYLIGHT
TZOFFSETFROM:-0500
TZOFFSETTO:-0400
TZNAME:EDT
DTSTART:20260308T070000
END:DAYLIGHT
BEGIN:STANDARD
TZOFFSETFROM:-0400
TZOFFSETTO:-0500
TZNAME:EST
DTSTART:20261101T060000
END:STANDARD
BEGIN:DAYLIGHT
TZOFFSETFROM:-0500
TZOFFSETTO:-0400
TZNAME:EDT
DTSTART:20270314T070000
END:DAYLIGHT
BEGIN:STANDARD
TZOFFSETFROM:-0400
TZOFFSETTO:-0500
TZNAME:EST
DTSTART:20271107T060000
END:STANDARD
END:VTIMEZONE
BEGIN:VTIMEZONE
TZID:UTC
BEGIN:STANDARD
TZOFFSETFROM:+0000
TZOFFSETTO:+0000
TZNAME:UTC
DTSTART:20250101T000000
END:STANDARD
END:VTIMEZONE
BEGIN:VEVENT
DTSTART;TZID=America/New_York:20261127T130000
DTEND;TZID=America/New_York:20261127T150000
DTSTAMP:20260425T120526
CREATED:20251031T162941Z
LAST-MODIFIED:20260416T193048Z
UID:10000573-1795784400-1795791600@frederickhistory.org
SUMMARY:Frosty Friday
DESCRIPTION:Join us the day after Thanksgiving for FREE children’s activities! Sip on a warm beverage while you play games in our garden or create a keepsake ornament. The Museum will be decked out for the holidays! \n\n\n\nHF’s Frosty Friday activities coincide with special events in Downtown Frederick including live music\, marshmallow roasting\, and specials at local shops and restaurants to kick off the holiday season.
URL:https://frederickhistory.org/event/frosty-friday-2/
END:VEVENT
BEGIN:VEVENT
DTSTART;TZID=UTC:20261212T100000
DTEND;TZID=UTC:20261212T190000
DTSTAMP:20260425T120526
CREATED:20171103T221933Z
LAST-MODIFIED:20260416T193134Z
UID:10000176-1797069600-1797102000@frederickhistory.org
SUMMARY:Museums By Candlelight
DESCRIPTION:Join us at the Museum of Frederick County History for some holiday cheer! All are welcome to partake in seasonal treats\, crafts and games. The event and activities are free to all participants. This is your last chance to see our 2026 exhibits before we update them in 2026!
URL:https://frederickhistory.org/event/museums-by-candlelight/
LOCATION:Heritage Frederick\, 24 East Church Street\, Frederick\, MD\, 21701\, United States
CATEGORIES:Public Events
END:VEVENT
END:VCALENDAR