BEGIN:VCALENDAR
VERSION:2.0
PRODID:-//Heritage Frederick  – The Historical Society of Frederick County - ECPv6.15.20//NONSGML v1.0//EN
CALSCALE:GREGORIAN
METHOD:PUBLISH
X-ORIGINAL-URL:https://frederickhistory.org
X-WR-CALDESC:Events for Heritage Frederick  – The Historical Society of Frederick County
REFRESH-INTERVAL;VALUE=DURATION:PT1H
X-Robots-Tag:noindex
X-PUBLISHED-TTL:PT1H
BEGIN:VTIMEZONE
TZID:America/New_York
BEGIN:DAYLIGHT
TZOFFSETFROM:-0500
TZOFFSETTO:-0400
TZNAME:EDT
DTSTART:20250309T070000
END:DAYLIGHT
BEGIN:STANDARD
TZOFFSETFROM:-0400
TZOFFSETTO:-0500
TZNAME:EST
DTSTART:20251102T060000
END:STANDARD
BEGIN:DAYLIGHT
TZOFFSETFROM:-0500
TZOFFSETTO:-0400
TZNAME:EDT
DTSTART:20260308T070000
END:DAYLIGHT
BEGIN:STANDARD
TZOFFSETFROM:-0400
TZOFFSETTO:-0500
TZNAME:EST
DTSTART:20261101T060000
END:STANDARD
BEGIN:DAYLIGHT
TZOFFSETFROM:-0500
TZOFFSETTO:-0400
TZNAME:EDT
DTSTART:20270314T070000
END:DAYLIGHT
BEGIN:STANDARD
TZOFFSETFROM:-0400
TZOFFSETTO:-0500
TZNAME:EST
DTSTART:20271107T060000
END:STANDARD
END:VTIMEZONE
BEGIN:VEVENT
DTSTART;TZID=America/New_York:20260528T180000
DTEND;TZID=America/New_York:20260528T190000
DTSTAMP:20260419T133958
CREATED:20260312T191155Z
LAST-MODIFIED:20260312T191452Z
UID:10000841-1779991200-1779994800@frederickhistory.org
SUMMARY:Parsons Newman Lecture: Presidential Sites Within Two Hours of Frederick That You Have Probably Never Heard Of with Tom Slater
DESCRIPTION:This program will discuss sites related to our Presidents’ lives\, from birthplaces to burial sites. Tom Slater will share his best itineraries for your own travels. A part of our 250th Anniversary celebration\, what a great time to connect to US history in and near our own home of Frederick County! \n\n\n\nTom Slater is a retired attorney and educator. He taught U.S. History at high schools in Frederick County and at Frederick Community College. He obtained an M.A. in History from The George Washington University and wrote a thesis entitled “Frederick County Politics 1950-1970: A Study in Rural Conservatism.” He has served as the Historian for the Frederick County Bar Association and the Frederick County Democratic Party. He writes a monthly column for the local Democratic Party where he focuses on history. Since his retirement a few years ago\, he has been researching local and state history and hopes to write books about the history of the Maryland Democratic Party and Frederick County politics from 1970 to 2000. He has an extensive collection of obituaries of local and state leaders as well as newspaper clippings collected over the past sixty years. As a student of United States History\, he has a special interest in U.S. Presidents and is on a quest to visit the birthplace\, death site\, and burial site of every U.S. President. He has seven more sites to visit in order to complete his quest (Trump’s birth site\, Obama’s birth site\, Ford’s birth site\, Nixon’s burial site\, Harding’s death site\, and Reagan’s death and burial sites. \n\n\n\nThese lectures are FREE\, but RSVPs are appreciated!
URL:https://frederickhistory.org/event/presidential-sites-within-two-hours-of-frederick-that-you-have-probably-never-heard-of-with-tom-slater/
CATEGORIES:Parsons Newman Lecture Series
END:VEVENT
END:VCALENDAR