BEGIN:VCALENDAR
VERSION:2.0
PRODID:-//Heritage Frederick  – The Historical Society of Frederick County - ECPv6.15.20//NONSGML v1.0//EN
CALSCALE:GREGORIAN
METHOD:PUBLISH
X-ORIGINAL-URL:https://frederickhistory.org
X-WR-CALDESC:Events for Heritage Frederick  – The Historical Society of Frederick County
REFRESH-INTERVAL;VALUE=DURATION:PT1H
X-Robots-Tag:noindex
X-PUBLISHED-TTL:PT1H
BEGIN:VTIMEZONE
TZID:America/New_York
BEGIN:DAYLIGHT
TZOFFSETFROM:-0500
TZOFFSETTO:-0400
TZNAME:EDT
DTSTART:20250309T070000
END:DAYLIGHT
BEGIN:STANDARD
TZOFFSETFROM:-0400
TZOFFSETTO:-0500
TZNAME:EST
DTSTART:20251102T060000
END:STANDARD
BEGIN:DAYLIGHT
TZOFFSETFROM:-0500
TZOFFSETTO:-0400
TZNAME:EDT
DTSTART:20260308T070000
END:DAYLIGHT
BEGIN:STANDARD
TZOFFSETFROM:-0400
TZOFFSETTO:-0500
TZNAME:EST
DTSTART:20261101T060000
END:STANDARD
BEGIN:DAYLIGHT
TZOFFSETFROM:-0500
TZOFFSETTO:-0400
TZNAME:EDT
DTSTART:20270314T070000
END:DAYLIGHT
BEGIN:STANDARD
TZOFFSETFROM:-0400
TZOFFSETTO:-0500
TZNAME:EST
DTSTART:20271107T060000
END:STANDARD
END:VTIMEZONE
BEGIN:VEVENT
DTSTART;TZID=America/New_York:20260226T173000
DTEND;TZID=America/New_York:20260226T190000
DTSTAMP:20260423T084152
CREATED:20260202T205404Z
LAST-MODIFIED:20260202T210445Z
UID:10000574-1772127000-1772132400@frederickhistory.org
SUMMARY:Parsons Newman Lecture: Connecting Sites and Stories\, New Insights on African American History Research in Frederick County
DESCRIPTION:Building relationships through the sharing of cultural memory\, research collections\, and personal experiences creates a more complete and compelling understanding of our history. In recent years\, such relationships between local organizations have been crucial to helping our historical sites and museums discover and share more of their own stories and their interconnectedness through the lives of the people that once inhabited them.  \n\n\n\nParticularly\, this collaboration has expanded our understanding of how enslaved people experienced different living and labor conditions among Frederick County’s domestic\, industrial\, and agricultural settings. In the midst of such challenging circumstances\, we are introduced to stories of courageous people who risked everything to seek the promises of equality\, justice\, and freedom that inspired our nation’s founding\, for which we celebrate the 250th anniversary in 2026. We are discovering how they navigated emancipation and established new lives as free people\, and how communities were formed\, moved\, and in some cases\, lost as time went on.  \n\n\n\nThis program will feature representatives from several history organizations\, including Heritage Frederick\, Rose Hill Manor Parks and Museum\, and the Catoctin Furnace Historical Society\, in conversation about our shared research initiatives and how these new insights are being shared with our visitors and local communities.  \n\n\n\nThese lectures are FREE\, but RSVPs are appreciated! https://www.cognitoforms.com/HeritageFrederick1/ParsonsNewmanLectureSeries2026February
URL:https://frederickhistory.org/event/parsons-newman-lecture-connecting-sites-and-stories-new-insights-on-african-american-history-research-in-frederick-county/
CATEGORIES:Parsons Newman Lecture Series
END:VEVENT
END:VCALENDAR